BEGIN:VCALENDAR
VERSION:2.0
PRODID:-//ISKCON SOUTH AFRICA - ECPv6.15.17.1//NONSGML v1.0//EN
CALSCALE:GREGORIAN
METHOD:PUBLISH
X-WR-CALNAME:ISKCON SOUTH AFRICA
X-ORIGINAL-URL:https://iskconza.com
X-WR-CALDESC:Events for ISKCON SOUTH AFRICA
REFRESH-INTERVAL;VALUE=DURATION:PT1H
X-Robots-Tag:noindex
X-PUBLISHED-TTL:PT1H
BEGIN:VTIMEZONE
TZID:Africa/Johannesburg
BEGIN:STANDARD
TZOFFSETFROM:+0200
TZOFFSETTO:+0200
TZNAME:SAST
DTSTART:20240101T000000
END:STANDARD
END:VTIMEZONE
BEGIN:VEVENT
DTSTART;TZID=Africa/Johannesburg:20251012T110000
DTEND;TZID=Africa/Johannesburg:20251012T143000
DTSTAMP:20260424T235324
CREATED:20250910T101025Z
LAST-MODIFIED:20250910T101347Z
UID:6890-1760266800-1760279400@iskconza.com
SUMMARY:Srila Prabhupada Maha Love Feast
DESCRIPTION:Share this:FacebookTwitterEmail
URL:https://iskconza.com/event/srila-prabhupada-maha-love-feast/
LOCATION:Sri Sri Radha Radhanath Temple\, 50 Bhaktivendanta Swami Cir\, Westcliff\, Durban\, 4092\, Durban\, KwaZulu-Natal\, 4092\, South Africa
END:VEVENT
BEGIN:VEVENT
DTSTART;TZID=Africa/Johannesburg:20251012T090000
DTEND;TZID=Africa/Johannesburg:20251012T130000
DTSTAMP:20260424T235324
CREATED:20250910T100645Z
LAST-MODIFIED:20250910T100645Z
UID:6886-1760259600-1760274000@iskconza.com
SUMMARY:Super Sunday
DESCRIPTION:This Kartik\, join us for a 2-day festival of joyful chanting\, dancing\, and deep remembrance – celebrating 50 years since Srila Prabhupada’s sacred footsteps touched South Africa. \nLet’s flood the streets and temples with the Holy Name and immerse in the mercy he brought. \nCome chant\, connect\, and experience the rasa of Sankirtan. \nShare this:FacebookTwitterEmail
URL:https://iskconza.com/event/super-sunday/
LOCATION:ISKCON Lenasia\, 7971 Capricorn Ave\, Lenasia\, 1821\, Johannesburg\, Gauteng\, 2157\, South Africa
END:VEVENT
BEGIN:VEVENT
DTSTART;TZID=Africa/Johannesburg:20251011T130000
DTEND;TZID=Africa/Johannesburg:20251011T160000
DTSTAMP:20260424T235324
CREATED:20250910T100853Z
LAST-MODIFIED:20250910T100853Z
UID:6888-1760187600-1760198400@iskconza.com
SUMMARY:Dignitaries & Sponsors Banquet
DESCRIPTION:Share this:FacebookTwitterEmail
URL:https://iskconza.com/event/dignitaries-sponsors-banquet/
LOCATION:Sri Sri Radha Radhanath Temple\, 50 Bhaktivendanta Swami Cir\, Westcliff\, Durban\, 4092\, Durban\, KwaZulu-Natal\, 4092\, South Africa
END:VEVENT
BEGIN:VEVENT
DTSTART;TZID=Africa/Johannesburg:20251011T110000
DTEND;TZID=Africa/Johannesburg:20251011T190000
DTSTAMP:20260424T235324
CREATED:20250910T100528Z
LAST-MODIFIED:20250910T100528Z
UID:6883-1760180400-1760209200@iskconza.com
SUMMARY:8 Hour Kirtan Festival
DESCRIPTION:This Kartik\, join us for a 2-day festival of joyful chanting\, dancing\, and deep remembrance – celebrating 50 years since Srila Prabhupada’s sacred footsteps touched South Africa. \nLet’s flood the streets and temples with the Holy Name and immerse in the mercy he brought. \nCome chant\, connect\, and experience the rasa of Sankirtan. \nShare this:FacebookTwitterEmail
URL:https://iskconza.com/event/8-hour-kirtan-festival/
LOCATION:ISKCON Lenasia\, 7971 Capricorn Ave\, Lenasia\, 1821\, Johannesburg\, Gauteng\, 2157\, South Africa
END:VEVENT
BEGIN:VEVENT
DTSTART;TZID=Africa/Johannesburg:20251010T170000
DTEND;TZID=Africa/Johannesburg:20251010T190000
DTSTAMP:20260424T235324
CREATED:20250910T095835Z
LAST-MODIFIED:20251002T073214Z
UID:6872-1760115600-1760122800@iskconza.com
SUMMARY:Maha Harinaam
DESCRIPTION:This Kartik\, join us for a festival of joyful chanting\, dancing\, and deep remembrance – celebrating 50 years since Srila Prabhupada’s sacred footsteps touched South Africa. \nLet’s flood the streets and temples with the Holy Name and immerse in the mercy he brought.Come chant\, connect\, and experience the rasa of Sankirtan. \nShare this:FacebookTwitterEmail
URL:https://iskconza.com/event/maha-harinam/
LOCATION:Corner of Nelson Mandela Square & West\, Sandton\, Johannesburg\, Gauteng\, 2157\, South Africa
END:VEVENT
BEGIN:VEVENT
DTSTART;VALUE=DATE:20251010
DTEND;VALUE=DATE:20251011
DTSTAMP:20260424T235324
CREATED:20250910T100207Z
LAST-MODIFIED:20250910T100207Z
UID:6880-1760054400-1760140799@iskconza.com
SUMMARY:Srila Prabhupada Night: The Prabhupada movie
DESCRIPTION:More details to follow. \nShare this:FacebookTwitterEmail
URL:https://iskconza.com/event/srila-prabhupada-night-the-prabhupada-movie/
LOCATION:Sri Sri Radha Radhanath Temple\, 50 Bhaktivendanta Swami Cir\, Westcliff\, Durban\, 4092\, Durban\, KwaZulu-Natal\, 4092\, South Africa
END:VEVENT
BEGIN:VEVENT
DTSTART;TZID=Africa/Johannesburg:20251005T113000
DTEND;TZID=Africa/Johannesburg:20251005T130000
DTSTAMP:20260424T235324
CREATED:20251002T081710Z
LAST-MODIFIED:20251002T081710Z
UID:6959-1759663800-1759669200@iskconza.com
SUMMARY:✨ SP50 CPT Webinar: Honouring the Roots of ISKCON SA – Live and Recorded Reflections ✨
DESCRIPTION:SP50 CPT Webinar: Honouring the Roots of ISKCON SA – Live and Recorded Reflections.\nThis Sunday\, 5 October 2025\, on the exact day that Śrīla Prabhupāda first arrived in South Africa in 1975\, ISKCON Cape Town will host a special SP50 webinar during the Sunday Love Feast program. \n📍 Venue: ISKCON Cape Town Temple (with live MS Teams broadcast / FB Live Stream)\n🕙 Time: 11h30 – 12h40 (SAST)\n🔗 Join Online: https://teams.live.com/meet/9343290528446?p=obgbZKDO37nt3j4yDz \nShare this:FacebookTwitterEmail
URL:https://iskconza.com/event/%e2%9c%a8-sp50-cpt-webinar-honouring-the-roots-of-iskcon-sa-live-and-recorded-reflections-%e2%9c%a8/
LOCATION:ISKCON Cape Town\, 17 St Andrews Rd\, Rondebosch\, Cape Town\, 7700\, Cape Town\, Western Cape\, 7700\, South Africa
END:VEVENT
BEGIN:VEVENT
DTSTART;TZID=Africa/Johannesburg:20251004T090000
DTEND;TZID=Africa/Johannesburg:20251004T140000
DTSTAMP:20260424T235324
CREATED:20251002T074411Z
LAST-MODIFIED:20251002T074411Z
UID:6947-1759568400-1759586400@iskconza.com
SUMMARY:Srila Prabhupada's 50th Anniversary Bus Tour
DESCRIPTION:Srila Prabhupada’s 50th Anniversary Bus Tour\nWith His Grace Kshudi Das\, His Grace Medhavi Das\, and His Grace Srutakirti Das \n“My lord\, devotees like your good self are verily holy places personified. Because you carry the Personality of Godhead within your heart\, you turn all places into places of pilgrimage.” SB 1.13.10 \nWhen Srila Prabhupada visited Durban 50 years ago he went on morning walks\, gave talks\, and stayed at a rented house. Join us on a memorial tour of Luxmi Narayan Hall\, Mobeni Heights\, 97 Devon Terrace\, Westville\, Reservoir Hills Hindu Seva Samaj\, UKZN Westville Campus\, Durban Beachfront\, Old Fort Road Park\, Durban City Hall\, and Japanese Gardens\, Durban North – which are now all holy places. We will chant together\, reminisce together\, and honour prasad together. There will also be a historic quizz with prizes! \nRegister here: ‪+27 61 735 3515‬ \n#lovedurbankrishna #durbankrishna40th \n  \nShare this:FacebookTwitterEmail
URL:https://iskconza.com/event/srila-prabhupadas-50th-anniversary-bus-tour/
LOCATION:Sri Sri Radha Radhanath Temple\, 50 Bhaktivendanta Swami Cir\, Westcliff\, Durban\, 4092\, Durban\, KwaZulu-Natal\, 4092\, South Africa
END:VEVENT
BEGIN:VEVENT
DTSTART;VALUE=DATE:20250927
DTEND;VALUE=DATE:20250928
DTSTAMP:20260424T235324
CREATED:20250910T094456Z
LAST-MODIFIED:20250910T094456Z
UID:6868-1758931200-1759017599@iskconza.com
SUMMARY:Soweto Ratha Yatra
DESCRIPTION:SAVE THE DATE! \nTo get your dance shoes on\, bring out all your most beautifully coloured outfits\, an open heart and your loudest voice! ♥️ \nSaturday\, 27 September \nDance\, sing\, feast\, grab a trinket from our local Soweto arts and craft stalls\, and so much more!  \nHare Krsna! Jaya Jagannath! \n  \nShare this:FacebookTwitterEmail
URL:https://iskconza.com/event/soweto-ratha-yatra/
LOCATION:KwaZulu-Natal
ORGANIZER;CN="ISKCON Soweto":MAILTO:info@iskconsoweto.org
END:VEVENT
BEGIN:VEVENT
DTSTART;VALUE=DATE:20250921
DTEND;VALUE=DATE:20250922
DTSTAMP:20260424T235324
CREATED:20250910T093822Z
LAST-MODIFIED:20250910T095218Z
UID:6863-1758412800-1758499199@iskconza.com
SUMMARY:Lenasia Ratha Yatra
DESCRIPTION:Share this:FacebookTwitterEmail
URL:https://iskconza.com/event/lenasia-ratha-yatra/
LOCATION:Shri Lakshmi Narayan Temple\, 44-46 Kingfisher St\, Lenasia\, 1827\, Johannesburg\, Gauteng\, 2157\, South Africa
END:VEVENT
BEGIN:VEVENT
DTSTART;TZID=Africa/Johannesburg:20250227T190000
DTEND;TZID=Africa/Johannesburg:20250227T193000
DTSTAMP:20260424T235324
CREATED:20250218T091220Z
LAST-MODIFIED:20250224T135259Z
UID:6481-1740682800-1740684600@iskconza.com
SUMMARY:Srila Prabhupada's Night - February
DESCRIPTION:#SP50 Gauteng coordinating Team is inviting you to Srila Prabhupada Night\nTopic: Srila Prabhupada’s 50th Anniversary\nTime: Feb 27\, 2025 07:00 PM Johannesburg\nJoin The Zoom Meeting by clicking the link below: \nSrila Prabhupada Night\nMeeting ID: 835 9547 7132\nPasscode: 629869 \nShare this:FacebookTwitterEmail
URL:https://iskconza.com/event/srila-prabhupadas-night-february/
LOCATION:Srila Prabhupada’s Night\, https://rb.gy/m08kiz
END:VEVENT
BEGIN:VEVENT
DTSTART;TZID=Africa/Johannesburg:20250222T100000
DTEND;TZID=Africa/Johannesburg:20250222T140000
DTSTAMP:20260424T235324
CREATED:20250218T091958Z
LAST-MODIFIED:20250218T162819Z
UID:6484-1740218400-1740232800@iskconza.com
SUMMARY:Event 2: Kirtan Mela - HG Agnideva Prabhu
DESCRIPTION: Click on the poster to get a preview\nhttps://iskconza.com/wp-content/uploads/2025/02/WhatsApp-Video-2025-02-17-at-14.44.15_3e53861d.mp4\nClick to RSVP \nShare this:FacebookTwitterEmail
URL:https://iskconza.com/event/event-2-kirtan-mela-hg-agnideva-prabhu/
LOCATION:Sri Sri Radha Radhanath Temple\, 50 Bhaktivendanta Swami Cir\, Westcliff\, Durban\, 4092\, Durban\, KwaZulu-Natal\, 4092\, South Africa
END:VEVENT
BEGIN:VEVENT
DTSTART;TZID=Africa/Johannesburg:20250219T183000
DTEND;TZID=Africa/Johannesburg:20250219T200000
DTSTAMP:20260424T235324
CREATED:20250217T172643Z
LAST-MODIFIED:20250217T172643Z
UID:6446-1739989800-1739995200@iskconza.com
SUMMARY:Event 1: Kirtan Mela - HG Agnideva Prabhu
DESCRIPTION:Share this:FacebookTwitterEmail
URL:https://iskconza.com/event/event-1-kirtan-mela-hg-agnideva-prabhu/
LOCATION:Sri Sri Radha Radhanath Temple\, 50 Bhaktivendanta Swami Cir\, Westcliff\, Durban\, 4092\, Durban\, KwaZulu-Natal\, 4092\, South Africa
END:VEVENT
END:VCALENDAR