BEGIN:VCALENDAR
VERSION:2.0
PRODID:-//ISKCON SOUTH AFRICA - ECPv6.15.17.1//NONSGML v1.0//EN
CALSCALE:GREGORIAN
METHOD:PUBLISH
X-WR-CALNAME:ISKCON SOUTH AFRICA
X-ORIGINAL-URL:https://iskconza.com
X-WR-CALDESC:Events for ISKCON SOUTH AFRICA
REFRESH-INTERVAL;VALUE=DURATION:PT1H
X-Robots-Tag:noindex
X-PUBLISHED-TTL:PT1H
BEGIN:VTIMEZONE
TZID:Africa/Johannesburg
BEGIN:STANDARD
TZOFFSETFROM:+0200
TZOFFSETTO:+0200
TZNAME:SAST
DTSTART:20250101T000000
END:STANDARD
END:VTIMEZONE
BEGIN:VEVENT
DTSTART;VALUE=DATE:20260515
DTEND;VALUE=DATE:20260517
DTSTAMP:20260423T190121
CREATED:20260324T125131Z
LAST-MODIFIED:20260324T125820Z
UID:7205-1778803200-1778975999@iskconza.com
SUMMARY:Sandton Ratha Yatra
DESCRIPTION:Share this:FacebookTwitterEmail
URL:https://iskconza.com/event/sandton-ratha-yatra/
LOCATION:Sandton Ratha Yatra\, 104 NORTH RD SANDOWN CORNER RIVONIA RD\, Grayston Dr\, Sandton\, 2196\, Johannesburg\, Gauteng\, 2196\, South Africa
ORGANIZER;CN="ISKCON Sandton":MAILTO:sandton@iskconza.com
END:VEVENT
END:VCALENDAR