BEGIN:VCALENDAR
VERSION:2.0
PRODID:-//ISKCON SOUTH AFRICA - ECPv6.15.17.1//NONSGML v1.0//EN
CALSCALE:GREGORIAN
METHOD:PUBLISH
X-WR-CALNAME:ISKCON SOUTH AFRICA
X-ORIGINAL-URL:https://iskconza.com
X-WR-CALDESC:Events for ISKCON SOUTH AFRICA
REFRESH-INTERVAL;VALUE=DURATION:PT1H
X-Robots-Tag:noindex
X-PUBLISHED-TTL:PT1H
BEGIN:VTIMEZONE
TZID:Africa/Johannesburg
BEGIN:STANDARD
TZOFFSETFROM:+0200
TZOFFSETTO:+0200
TZNAME:SAST
DTSTART:20240101T000000
END:STANDARD
END:VTIMEZONE
BEGIN:VEVENT
DTSTART;TZID=Africa/Johannesburg:20251018T083000
DTEND;TZID=Africa/Johannesburg:20251018T173000
DTSTAMP:20260424T183634
CREATED:20250910T101822Z
LAST-MODIFIED:20251002T075735Z
UID:6892-1760776200-1760808600@iskconza.com
SUMMARY:Laudium to Lenasia
DESCRIPTION:🌸 Be Part of History – Join the Prabhupada Kirtan Bus! 🌸 \nOn 18 October 1975\, Srila Prabhupada gave a class at the Laudium Civic Hall.\nThis year\, let us come together to commemorate the 50th Anniversary of this historic event! \n✨ A Rare Blessing: Association with Srila Prabhupada’s disciples\nHH Bhakti Chaitanya Swami | HG Medhavi Prabhu | HG Kshudi Prabhu | HG Srutakirti Prabhu \n🎶 What’s in Store?\nUplifting Kirtan with senior Vaishnavas\nPersonal memories of Srila Prabhupada shared right on the bus\nA unique atmosphere of devotion\, unity\, and history in the making \n🗓 Program Schedule\n8:00 AM – Bus boarding at ISKCON Midrand\n8:30 AM – Departure for Laudium Civic Hall\n10:00 AM – Main Program begins\nAfter the program – Lunch prasadam will be served\n2:00 PM – Kirtan Bus departs for ISKCON Lenasia\nThe Bus will return to ISKCON Midrand for the Diwali Festival! \n🎟 Tickets: Only R108 per person – 50 Seats Left! Secure yours today!\n📥 RSVP to the Main Event: https://forms.gle/RH1oxFnT4JZvT589A\n👉 Book your bus ticket: https://www.webtickets.co.za/v2/event.aspx?itemid=1575427479\n🚌 Pickup point: ISKCON Midrand\, 8:30 AM\n💂 Secure parking for ticket holders\n📱 For more info: Bhaktin Aleena – 083 222 5624 \n🙏 Don’t miss this once-in-a-lifetime opportunity to travel\, sing\, and hear directly from those who personally served Srila Prabhupada. \nLet’s fill the bus with our devotion and hearts. \nShare this:FacebookTwitterEmail
URL:https://iskconza.com/event/laudium-to-lenasia/
LOCATION:Laudium Civic Centre\, 6th Ave\, Laudium\, Centurion\, 0037\, Centurion\, Gauteng\, South Africa
ORGANIZER;CN="ISKCON Pretoria":MAILTO:iskconpta@gmail.com
END:VEVENT
BEGIN:VEVENT
DTSTART;TZID=Africa/Johannesburg:20251018T170000
DTEND;TZID=Africa/Johannesburg:20251018T210000
DTSTAMP:20260424T183634
CREATED:20251002T080757Z
LAST-MODIFIED:20251002T080757Z
UID:6953-1760806800-1760821200@iskconza.com
SUMMARY:ISKCON Midrand - Diwali Fair
DESCRIPTION:Share this:FacebookTwitterEmail
URL:https://iskconza.com/event/iskcon-midrand-diwali-fair/
LOCATION:ISKCON Midrand\, 135 Norfolk Rd\, Carlswald\, Midrand\, 1684\, Johannesburg\, Gauteng\, 1684\, South Africa
END:VEVENT
END:VCALENDAR