BEGIN:VCALENDAR
VERSION:2.0
PRODID:-//ISKCON SOUTH AFRICA - ECPv6.15.17.1//NONSGML v1.0//EN
CALSCALE:GREGORIAN
METHOD:PUBLISH
X-WR-CALNAME:ISKCON SOUTH AFRICA
X-ORIGINAL-URL:https://iskconza.com
X-WR-CALDESC:Events for ISKCON SOUTH AFRICA
REFRESH-INTERVAL;VALUE=DURATION:PT1H
X-Robots-Tag:noindex
X-PUBLISHED-TTL:PT1H
BEGIN:VTIMEZONE
TZID:Africa/Johannesburg
BEGIN:STANDARD
TZOFFSETFROM:+0200
TZOFFSETTO:+0200
TZNAME:SAST
DTSTART:20240101T000000
END:STANDARD
END:VTIMEZONE
BEGIN:VEVENT
DTSTART;TZID=Africa/Johannesburg:20251004T090000
DTEND;TZID=Africa/Johannesburg:20251004T140000
DTSTAMP:20260424T183634
CREATED:20251002T074411Z
LAST-MODIFIED:20251002T074411Z
UID:6947-1759568400-1759586400@iskconza.com
SUMMARY:Srila Prabhupada's 50th Anniversary Bus Tour
DESCRIPTION:Srila Prabhupada’s 50th Anniversary Bus Tour\nWith His Grace Kshudi Das\, His Grace Medhavi Das\, and His Grace Srutakirti Das \n“My lord\, devotees like your good self are verily holy places personified. Because you carry the Personality of Godhead within your heart\, you turn all places into places of pilgrimage.” SB 1.13.10 \nWhen Srila Prabhupada visited Durban 50 years ago he went on morning walks\, gave talks\, and stayed at a rented house. Join us on a memorial tour of Luxmi Narayan Hall\, Mobeni Heights\, 97 Devon Terrace\, Westville\, Reservoir Hills Hindu Seva Samaj\, UKZN Westville Campus\, Durban Beachfront\, Old Fort Road Park\, Durban City Hall\, and Japanese Gardens\, Durban North – which are now all holy places. We will chant together\, reminisce together\, and honour prasad together. There will also be a historic quizz with prizes! \nRegister here: ‪+27 61 735 3515‬ \n#lovedurbankrishna #durbankrishna40th \n  \nShare this:FacebookTwitterEmail
URL:https://iskconza.com/event/srila-prabhupadas-50th-anniversary-bus-tour/
LOCATION:Sri Sri Radha Radhanath Temple\, 50 Bhaktivendanta Swami Cir\, Westcliff\, Durban\, 4092\, Durban\, KwaZulu-Natal\, 4092\, South Africa
END:VEVENT
END:VCALENDAR