BEGIN:VCALENDAR
VERSION:2.0
PRODID:-//ISKCON SOUTH AFRICA - ECPv6.15.17.1//NONSGML v1.0//EN
CALSCALE:GREGORIAN
METHOD:PUBLISH
X-ORIGINAL-URL:https://iskconza.com
X-WR-CALDESC:Events for ISKCON SOUTH AFRICA
REFRESH-INTERVAL;VALUE=DURATION:PT1H
X-Robots-Tag:noindex
X-PUBLISHED-TTL:PT1H
BEGIN:VTIMEZONE
TZID:Africa/Johannesburg
BEGIN:STANDARD
TZOFFSETFROM:+0200
TZOFFSETTO:+0200
TZNAME:SAST
DTSTART:20240101T000000
END:STANDARD
END:VTIMEZONE
BEGIN:VEVENT
DTSTART;VALUE=DATE:20250921
DTEND;VALUE=DATE:20250922
DTSTAMP:20260424T202123
CREATED:20250910T093822Z
LAST-MODIFIED:20250910T095218Z
UID:6863-1758412800-1758499199@iskconza.com
SUMMARY:Lenasia Ratha Yatra
DESCRIPTION:Share this:FacebookTwitterEmail
URL:https://iskconza.com/event/lenasia-ratha-yatra/
LOCATION:Shri Lakshmi Narayan Temple\, 44-46 Kingfisher St\, Lenasia\, 1827\, Johannesburg\, Gauteng\, 2157\, South Africa
END:VEVENT
END:VCALENDAR